BEGIN:VCALENDAR
VERSION:2.0
PRODID:-//Tukios.com/
BEGIN:VEVENT
UID:66309025-63ad-40c3-ac78-c8aa16e9c3af@www.bruzekfuneralhome.com
DTSTAMP:20260420T230302Z
DTSTART:20260424T150000Z
DTEND:20260424T160000Z
SUMMARY:Funeral Service
DESCRIPTION:
URL:https://www.bruzekfuneralhome.com/obituaries/margaret-hartman
LOCATION:Church of St. Scholastica 31525 181st Avenue  Heidelberg MN 
	56071
GEO:44.4929341;-93.6260754
END:VEVENT
END:VCALENDAR