BEGIN:VCALENDAR
VERSION:2.0
PRODID:-//Tukios.com/
BEGIN:VEVENT
UID:65a2812b-e6c4-496a-9e04-7da36c6f0c5b@www.bruzekfuneralhome.com
DTSTAMP:20260420T230844Z
DTSTART:20260424T140000Z
DTEND:20260424T150000Z
SUMMARY:Visitation
DESCRIPTION:
URL:https://www.bruzekfuneralhome.com/obituaries/margaret-hartman
LOCATION:Church of St. Scholastica 31525 181st Avenue  Heidelberg MN 
	56071
GEO:44.4929341;-93.6260754
END:VEVENT
END:VCALENDAR