BEGIN:VCALENDAR
VERSION:2.0
PRODID:-//Tukios.com/
BEGIN:VEVENT
UID:cf745edd-7526-4166-9950-639e4f11b1e9@www.bruzekfuneralhome.com
DTSTAMP:20260421T205149Z
DTSTART:20260429T160000Z
DTEND:20260429T170000Z
SUMMARY:Celebration of Life
DESCRIPTION:
URL:https://www.bruzekfuneralhome.com/obituaries/greg-bruzek
LOCATION:Bruzek Funeral Home 610 Main St E.  New Prague MN 56071
GEO:44.5433573;-93.5672776
END:VEVENT
END:VCALENDAR