BEGIN:VCALENDAR
VERSION:2.0
PRODID:-//Tukios.com/
BEGIN:VEVENT
UID:1a6e0cb8-3b45-4348-a59f-7bb72a732fb8@www.bruzekfuneralhome.com
DTSTAMP:20260421T205516Z
DTSTART:20260429T150000Z
DTEND:20260429T160000Z
SUMMARY:Visitation
DESCRIPTION:
URL:https://www.bruzekfuneralhome.com/obituaries/greg-bruzek
LOCATION:Bruzek Funeral Home 610 Main St E.  New Prague MN 56071
GEO:44.5433573;-93.5672776
END:VEVENT
END:VCALENDAR