BEGIN:VCALENDAR
VERSION:2.0
PRODID:-//Tukios.com/
BEGIN:VEVENT
UID:217fef4c-c887-4cb5-9590-58efb446f2c0@www.bruzekfuneralhome.com
DTSTAMP:20260424T174809Z
DTSTART:20260501T150000Z
DTEND:20260501T160000Z
SUMMARY:Visitation
DESCRIPTION:
URL:https://www.bruzekfuneralhome.com/obituaries/gladys-mader
LOCATION:Bruzek Funeral Home 610 Main St E.  New Prague MN 56071
GEO:44.5433573;-93.5672776
END:VEVENT
END:VCALENDAR