BEGIN:VCALENDAR
VERSION:2.0
PRODID:-//Tukios.com/
BEGIN:VEVENT
UID:a73efae8-c0ca-4058-a8a1-1adc8fa1a9ec@www.bruzekfuneralhome.com
DTSTAMP:20260422T180235Z
DTSTART:20260504T150000Z
DTEND:20260504T160000Z
SUMMARY:Memorial Gathering
DESCRIPTION:
URL:https://www.bruzekfuneralhome.com/obituaries/dennis-swenson
LOCATION:FaithPoint Lutheran Church 1051 West 270th Street  New Prague MN 
	56071
GEO:44.5575334;-93.5430556
END:VEVENT
END:VCALENDAR