BEGIN:VCALENDAR
VERSION:2.0
PRODID:-//Tukios.com/
BEGIN:VEVENT
UID:006a26e0-3267-496c-a4ae-6257e4df68bd@www.bruzekfuneralhome.com
DTSTAMP:20260422T175604Z
DTSTART:20260504T160000Z
DTEND:20260504T170000Z
SUMMARY:Celebration of Life
DESCRIPTION:
URL:https://www.bruzekfuneralhome.com/obituaries/dennis-swenson
LOCATION:FaithPoint Lutheran Church 1051 West 270th Street  New Prague MN 
	56071
GEO:44.5575334;-93.5430556
END:VEVENT
END:VCALENDAR